BEGIN:VCALENDAR
VERSION:2.0
PRODID:-//Envirosoil ingeniería y obras ambientales - ECPv6.15.20//NONSGML v1.0//EN
CALSCALE:GREGORIAN
METHOD:PUBLISH
X-WR-CALNAME:Envirosoil ingeniería y obras ambientales
X-ORIGINAL-URL:https://www.envirosoil.es/en/
X-WR-CALDESC:Events for Envirosoil ingeniería y obras ambientales
REFRESH-INTERVAL;VALUE=DURATION:PT1H
X-Robots-Tag:noindex
X-PUBLISHED-TTL:PT1H
BEGIN:VTIMEZONE
TZID:UTC
BEGIN:STANDARD
TZOFFSETFROM:+0000
TZOFFSETTO:+0000
TZNAME:UTC
DTSTART:20220101T000000
END:STANDARD
END:VTIMEZONE
BEGIN:VEVENT
DTSTART;VALUE=DATE:20240925
DTEND;VALUE=DATE:20240927
DTSTAMP:20260421T191939
CREATED:20240424T090507Z
LAST-MODIFIED:20240424T094034Z
UID:9111-1727222400-1727395199@www.envirosoil.es
SUMMARY:ENERH2O
DESCRIPTION:Esta feria especializada Business-to-Business cubre un hueco en el mercado y presenta de forma integrada las últimas soluciones para la gestión y el uso del agua y la energía.
URL:https://www.envirosoil.es/en/evento/enerh2o/
LOCATION:EXPONOR – Porto International Fair\, Av. Dr. Antonio Macedo\,\, Matosinhos\, Matosinhos\, 4454-515\, Portugal
ATTACH;FMTTYPE=image/jpeg:https://www.envirosoil.es/wp-content/uploads/2024/04/240925_WEB_RNF_EVENTO_ENERH2O_PORTUGAL-1-e1713951622628.jpg
END:VEVENT
BEGIN:VEVENT
DTSTART;VALUE=DATE:20240624
DTEND;VALUE=DATE:20240628
DTSTAMP:20260421T191939
CREATED:20240424T091219Z
LAST-MODIFIED:20240424T093815Z
UID:9121-1719187200-1719532799@www.envirosoil.es
SUMMARY:CONDEGRES 2024
DESCRIPTION:Este año se celebrara el 10mo Simposio Nacional sobre Control de la Degradacion y Recuperacion de suelos en la Universidad de Burgos del 24 al 27 de Junio. Un Congreso nacional cuya temática se integra en los objetivos para el Desarrollo Sostenible (ODS) de Naciones Unidas y en los objetivos de la Unión Europea con relación al programa Horizonte Europa y a las estrategias para combatir el cambio climático.
URL:https://www.envirosoil.es/en/evento/condegres-2024/
LOCATION:UBU – Universidad de Burgos\, C. Prta Romeros\, Burgos\, Burgos\, 09001\, España
ATTACH;FMTTYPE=image/jpeg:https://www.envirosoil.es/wp-content/uploads/2024/04/240627_WEB_RNF_EVENTO_CONDEGRES-RECUPERACION-SUELOS_BURGOS-1-e1713951459764.jpg
END:VEVENT
BEGIN:VEVENT
DTSTART;VALUE=DATE:20240619
DTEND;VALUE=DATE:20240621
DTSTAMP:20260421T191939
CREATED:20240424T090809Z
LAST-MODIFIED:20240424T092037Z
UID:9114-1718755200-1718927999@www.envirosoil.es
SUMMARY:21º CONGRESO NACIONAL DE LA RECUPERACION Y RECICLADO
DESCRIPTION:Este evento está considerado la principal convocatoria en España en el sector de la economía circular y su objetivo es generar soluciones sostenibles que permitan construir un futuro mejor para todos\, minimizando el impacto ambiental y promoviendo el uso eficiente de los recursos. \nEl congreso coincidirá en espacio y tiempo con la octava edición de la Feria Internacional de la Recuperación y el Reciclado (SRR)\, de la que FER es promotora. El SRR se celebrará en el marco del 5º Foro Medio Ambiente y Sostenibilidad (FSMS)\, junto con la 22ª Feria Internacional del Urbanismo y Medio Ambiente (TECMA) y el 6º Foro de las Ciudades de Madrid.
URL:https://www.envirosoil.es/en/evento/21o-congreso-nacional-de-la-recuperacion-y-reciclado/
LOCATION:IFEMA – Institucion Ferial de Madrid\, Av. Del Partenón 5\, Madrid\, Madrid\, 28042\, España
ATTACH;FMTTYPE=image/jpeg:https://www.envirosoil.es/wp-content/uploads/2024/04/240619_WEB_RNF_EVENTO_FER-RECUPERACION-RECICLADO_MADRID-1-e1713950425174.jpg
END:VEVENT
BEGIN:VEVENT
DTSTART;VALUE=DATE:20240618
DTEND;VALUE=DATE:20240621
DTSTAMP:20260421T191939
CREATED:20240424T090057Z
LAST-MODIFIED:20240424T093332Z
UID:9109-1718668800-1718927999@www.envirosoil.es
SUMMARY:SRR - Feria Internacional de la Recuperacion y el Reciclado
DESCRIPTION:La feria internacional de recuperación y el reciclado\, SRR\, es considerada la principal convocatoria en España en el sector de la economía circular\, promovida por la FER (Federación Española de la Recuperación y el Reciclaje). El objetivo es generar soluciones sostenibles que permitan construir un futuro mejor para todos\, minimizando el impacto ambiental y promoviendo el uso eficiente de los recursos.
URL:https://www.envirosoil.es/en/evento/srr-feria-internacional-de-la-recuperacion-y-el-reciclado/
LOCATION:IFEMA – Institucion Ferial de Madrid\, Av. Del Partenón 5\, Madrid\, Madrid\, 28042\, España
ATTACH;FMTTYPE=image/jpeg:https://www.envirosoil.es/wp-content/uploads/2024/04/240618_WEB_RNF_EVENTO_SRR-RECUPERACION-RECICLADO_MADRID-1.jpg
END:VEVENT
BEGIN:VEVENT
DTSTART;VALUE=DATE:20240607
DTEND;VALUE=DATE:20240610
DTSTAMP:20260421T191939
CREATED:20240424T083900Z
LAST-MODIFIED:20240424T093006Z
UID:9092-1717718400-1717977599@www.envirosoil.es
SUMMARY:BIOTERRA 2024
DESCRIPTION:La nueva edicion de Bioterra 2024\, la Feria de Euskadi de productos ecologicos\, bioconsrucción\, energias renovables y consumo responsable se celebrara del 7 al 9 de junio en FICOBA.
URL:https://www.envirosoil.es/en/evento/bioterra-2024/
LOCATION:FICOBA – Recinto Ferial de Gipuzkoa\, Av. Iparralde 43\, Irun\, Gipuzkoa\, 20302\, España
ATTACH;FMTTYPE=image/jpeg:https://www.envirosoil.es/wp-content/uploads/2024/04/240607_WEB_RNF_EVENTO_BIOTERRA_GIPUZKOA-1.jpg
END:VEVENT
BEGIN:VEVENT
DTSTART;VALUE=DATE:20240605
DTEND;VALUE=DATE:20240607
DTSTAMP:20260421T191939
CREATED:20240424T085752Z
LAST-MODIFIED:20240424T092823Z
UID:9106-1717545600-1717718399@www.envirosoil.es
SUMMARY:NET ZERO TECH
DESCRIPTION:El compromiso numerosos países con la neutralidad climática destaca la necesidad de una amplia variedad de soluciones para descarbonizar todos los sectores. \nNET ZERO TECH será el espacio punto de encuentro entre proveedores y demandantes de soluciones para la descarbonización mediante mejoras en la eficiencia energética\, electrificación con renovables e hidrógeno.
URL:https://www.envirosoil.es/en/evento/net-zero-tech/
LOCATION:Recinto Ferial La Farga\, Carrer de Barcelona\, 26\, Barcelona\, Barcelona\, 08901\, España
ATTACH;FMTTYPE=image/jpeg:https://www.envirosoil.es/wp-content/uploads/2024/04/240605_WEB_RNF_EVENTO_NET-ZERO_BARCELONA-2.jpg
END:VEVENT
BEGIN:VEVENT
DTSTART;VALUE=DATE:20240605
DTEND;VALUE=DATE:20240607
DTSTAMP:20260421T191939
CREATED:20240424T083024Z
LAST-MODIFIED:20240424T092609Z
UID:9089-1717545600-1717718399@www.envirosoil.es
SUMMARY:CONGRESO ANEFHOP DE LA CONSTRUCCION
DESCRIPTION:El I Congreso Nacional del Hormigón de Zaragoza va a ser uno de los eventos más importantes en el ámbito de la construcción en España. \nTiene como objetivo reunir a los principales expertos y profesionales del sector para compartir conocimientos\, experiencias y novedades en el campo del hormigón y sus aplicaciones. \nSerá punto de encuentro de nuestras empresas con la Administración\, con los sectores suministradores de materias primas\, maquinaria\, mundo académico\, clientes y prensa especializada
URL:https://www.envirosoil.es/en/evento/congreso-anefhop-de-la-construccion/
LOCATION:Palacio de Congresos de Zaragoza\, Plaza Lucas Miret Rodriguez\, 1\, Zaragoza\, Zaragoza\, 50018\, España
ATTACH;FMTTYPE=image/jpeg:https://www.envirosoil.es/wp-content/uploads/2024/04/240605_WEB_RNF_EVENTO_ANEFHOP_ZARAGOZA-2.jpg
END:VEVENT
BEGIN:VEVENT
DTSTART;VALUE=DATE:20240521
DTEND;VALUE=DATE:20240524
DTSTAMP:20260421T191939
CREATED:20240424T082535Z
LAST-MODIFIED:20240424T082702Z
UID:9085-1716249600-1716508799@www.envirosoil.es
SUMMARY:CONSTRUMAT 2024
DESCRIPTION:Este año Construmat se renueva como una feria de construcción donde la innovación y la sostenibilidad serán temas centrales. Será un punto de encuentro clave para profesionales\, empresas y entidades del sector\, donde se presentarán las últimas innovaciones y tendencias.
URL:https://www.envirosoil.es/en/evento/construmat/
LOCATION:Recinto Gran Via – Fira Barcelona\, Av. de Joan Carles 1\, 64\, Barcelona\, Barcelona\, 08908\, España
ATTACH;FMTTYPE=image/png:https://www.envirosoil.es/wp-content/uploads/2024/04/240521_WEB_RNF_EVENTO_CONSTRUMAT_BARCELONA.png
END:VEVENT
BEGIN:VEVENT
DTSTART;VALUE=DATE:20240517
DTEND;VALUE=DATE:20240518
DTSTAMP:20260421T191939
CREATED:20240424T085410Z
LAST-MODIFIED:20240424T092330Z
UID:9103-1715904000-1715990399@www.envirosoil.es
SUMMARY:3º CONGRESO NACIONAL DE RECICLADO DE PLASTICOS
DESCRIPTION:Este congreso reunirá nuevamente a 450 representantes de toda la cadena de valor del reciclaje de plastico. Sus objetivos principales son dar a conocer la importancia del reciclaje de plastico\, divulgar la funcion esencial para la sociedad y el medio ambiente que desarrollan las empresas del sector y convertirse en la cita anual de referencia en España sobre reciclaje de plastico.
URL:https://www.envirosoil.es/en/evento/3o-congreso-nacional-de-reciclado-de-plasticos/
LOCATION:Estadio del Atletico Madrid – Auditorio del Cívitas Metropolitano\, Av. de Luis Aragones\, 4\, Madrid\, Madrid\, 28022\, España
ATTACH;FMTTYPE=image/png:https://www.envirosoil.es/wp-content/uploads/2024/04/240517_WEB_RNF_EVENTO_RECICLADO-PLASTICOS_MADRID.png
END:VEVENT
BEGIN:VEVENT
DTSTART;VALUE=DATE:20240502
DTEND;VALUE=DATE:20240506
DTSTAMP:20260421T191939
CREATED:20240424T081958Z
LAST-MODIFIED:20240424T081958Z
UID:9082-1714608000-1714953599@www.envirosoil.es
SUMMARY:TEKTONIKA - Feria Internacional de la Construccion
DESCRIPTION:La feria lider en Portugal reúne importantes compradores dentro del mercado nacional e internacional en una muestra que cuenta con las últimas novedades del sector.
URL:https://www.envirosoil.es/en/evento/tektonika-feria-internacional-de-la-construccion/
LOCATION:Feria Internacional de Lisboa\, Rua do Bojador\,\, Lisboa\, Lisboa\, 1998-010\, Portugal
ATTACH;FMTTYPE=image/jpeg:https://www.envirosoil.es/wp-content/uploads/2024/04/240502_WEB_RNF_EVENTO_TEKTONICA_PORTUGAL.jpg
END:VEVENT
BEGIN:VEVENT
DTSTART;VALUE=DATE:20240417
DTEND;VALUE=DATE:20240419
DTSTAMP:20260421T191939
CREATED:20240209T115202Z
LAST-MODIFIED:20240209T115202Z
UID:8949-1713312000-1713484799@www.envirosoil.es
SUMMARY:BigMat Day 2024
DESCRIPTION:El BigMat Day 2024\, la gran cita anual con los profesionales de la construcción y la rehabilitación de la vivienda\, tendrá lugar los próximos días 17 y 18 de abril en Madrid Arena. La feria está organizada por BigMat\, el grupo de distribución especialista en productos y soluciones de construcción y bricolaje para profesionales y particulares.
URL:https://www.envirosoil.es/en/evento/bigmat-day-2024/
LOCATION:Madrid Arena – Pabellón Multiusos\, Av. De Portugal s/n\, Moncloa\, Madrid\, Madrid\, 28011\, España
ATTACH;FMTTYPE=image/png:https://www.envirosoil.es/wp-content/uploads/2024/02/EVENTOS_2403_BigMat-Day.png
END:VEVENT
BEGIN:VEVENT
DTSTART;VALUE=DATE:20240404
DTEND;VALUE=DATE:20240407
DTSTAMP:20260421T191939
CREATED:20230928T165026Z
LAST-MODIFIED:20230928T165049Z
UID:8082-1712188800-1712447999@www.envirosoil.es
SUMMARY:FIRAMACO - 24ª Feria de Materiales de Construcción\, Reforma\, Rehabilitación y Ahorro Energético
DESCRIPTION:Del  4 al 6 de abril de 2024 se celebra en IFA – Fira Alacant la 24ª edición de FIRAMACO\,  Feria de Materiales de Construcción\, Reforma\, Rehabilitación y Ahorro Energético. Se trata de un evento clave para el sector de la construcción\, el cual da respuesta a problemas de valores sociales\, energéticos\, medioambientales\, industriales y urbanos. \nOrientada hacía la búsqueda de sinergias y oportunidades del gremio\, esta feria pretende ser un punto de encuentro del sector donde las empresas podrán mostrar los nuevos productos e innovaciones tecnológicas. \n Mediante un programa completo de jornadas técnicas y más de medio centenar de empresas expositoras\, FIRAMACO presentará a los profesionales las últimas novedades del sector.
URL:https://www.envirosoil.es/en/evento/firamaco-23a-feria-de-materiales-de-construccion-reforma-rehabilitacion-y-ahorro-energetico/
LOCATION:IFA – Fira Alacant\, Carretera N-340\, km 731\, Elche\, Alicante\, 03320\, España
ATTACH;FMTTYPE=image/jpeg:https://www.envirosoil.es/wp-content/uploads/2023/09/EVENTOS_2310_Firamaco-Alicante.jpg
END:VEVENT
BEGIN:VEVENT
DTSTART;VALUE=DATE:20240319
DTEND;VALUE=DATE:20240323
DTSTAMP:20260421T191939
CREATED:20240216T082051Z
LAST-MODIFIED:20240216T082051Z
UID:8981-1710806400-1711151999@www.envirosoil.es
SUMMARY:WIND EUROPE 2024
DESCRIPTION:Wind Europe es el evento anual por excelencia para la industria de la energía eólica\, que en 2024 se volverá a celebrar en Bilbao del 19 al 22 de marzo.\nEl evento combinará exposición y conferencias. En el área expositiva\, alrededor de 400 empresas darán a conocer las últimas tendencias en fabricación\, tecnología\, logística y otros servicios. Por su parte\, el amplio programa de conferencias reunirá a 300 ponentes que debatirán sobre aspectos relacionados con la energía eólica terrestre y marina\, la electrificación\, la política industrial\, la energía eólica flotante\, el hidrógeno renovable y muchos otros temas.
URL:https://www.envirosoil.es/en/evento/wind-europe-2024/
LOCATION:BEC – Bilbao Exhibition Centre\, Azkue Kalea\, 1\, Barakaldo\, Bizkaia\, 48902\, España
ATTACH;FMTTYPE=image/webp:https://www.envirosoil.es/wp-content/uploads/2024/02/EVENTOS_2403_Wind_Europe.webp
END:VEVENT
BEGIN:VEVENT
DTSTART;VALUE=DATE:20240319
DTEND;VALUE=DATE:20240322
DTSTAMP:20260421T191939
CREATED:20240129T110350Z
LAST-MODIFIED:20240129T110523Z
UID:8926-1710806400-1711065599@www.envirosoil.es
SUMMARY:REBUILD Expo 2024
DESCRIPTION:REBUILD se ha convertido en el principal evento que impulsa y promueve la evolución en la forma en que se construyen edificios. Esta transformación se solidificará en los próximos años gracias a la adopción de prácticas más industrializadas\, la integración de tecnología digital\, el énfasis en diseño y la implementación de soluciones sostenibles.
URL:https://www.envirosoil.es/en/evento/rebuild-expo-2024/
LOCATION:IFEMA – Institucion Ferial de Madrid\, Av. Del Partenón 5\, Madrid\, Madrid\, 28042\, España
ATTACH;FMTTYPE=image/png:https://www.envirosoil.es/wp-content/uploads/2024/01/EVENTOS_2403_Rebuild.png
END:VEVENT
BEGIN:VEVENT
DTSTART;TZID=UTC:20240222T093000
DTEND;TZID=UTC:20240222T143000
DTSTAMP:20260421T191939
CREATED:20240129T150858Z
LAST-MODIFIED:20240129T150858Z
UID:8940-1708594200-1708612200@www.envirosoil.es
SUMMARY:Future4 Circularity 2024
DESCRIPTION:El próximo 22 de febrero tendrá lugar en Madrid\, Future4 Ciscularity\, un evento organizado por RETEMA\, publicación de referencia en el sector\, cuya aspiración es convertirse en referente en el intercambio de experiencias y debates para avanzar hacia un modelo de economía circular\, cerrando el ciclo de los residuos y optimizando la gestión de recursos.
URL:https://www.envirosoil.es/en/evento/future4-circularity-2024/
LOCATION:Evento en Streaming – Online\, Calle de Almagro 42\, Chamberi\, Madrid\, Madrid\, 28010\, España
ATTACH;FMTTYPE=image/jpeg:https://www.envirosoil.es/wp-content/uploads/2024/01/EVENTOS_2402_Future-Circularity.jpg
END:VEVENT
BEGIN:VEVENT
DTSTART;VALUE=DATE:20240206
DTEND;VALUE=DATE:20240209
DTSTAMP:20260421T191939
CREATED:20240129T104051Z
LAST-MODIFIED:20240129T104051Z
UID:8919-1707177600-1707436799@www.envirosoil.es
SUMMARY:GENERA Madrid 2024 - Feria Internacional de Energía y Medio Ambiente
DESCRIPTION:Durante este encuentro\, las destacadas empresas del sector compartirán los últimos avances en el ámbito de las energías verdes\, una industria crucial en el contexto de la emergencia climática.
URL:https://www.envirosoil.es/en/evento/genera-madrid-2024-feria-internacional-de-energia-y-medio-ambiente/
LOCATION:IFEMA – Institucion Ferial de Madrid\, Av. Del Partenón 5\, Madrid\, Madrid\, 28042\, España
ATTACH;FMTTYPE=image/jpeg:https://www.envirosoil.es/wp-content/uploads/2024/01/EVENTOS_2402_Genera-Madrid.jpg
END:VEVENT
BEGIN:VEVENT
DTSTART;VALUE=DATE:20231129
DTEND;VALUE=DATE:20231201
DTSTAMP:20260421T191939
CREATED:20230928T165744Z
LAST-MODIFIED:20231002T161929Z
UID:8086-1701216000-1701388799@www.envirosoil.es
SUMMARY:Logistic & Industrial Build 2023
DESCRIPTION:Logistic & Industrial Build es el salón exclusivo para construcción logística e industrial en el que proveedores de materiales\, empresas constructoras\, ingenieros y arquitectos se citan con propietarios\, usuarios y desarrolladores de naves industriales o logísticas para debatir sobre oportunidades y generar nuevos proyectos. \nCon más de 200 marcas expositores\, 9.000 visitantes\, 22.000 interacciones comerciales y más de un 88% de tasa de retención de expositores\, es el espacio ideal para sector logístico.
URL:https://www.envirosoil.es/en/evento/logistic-industrial-build-2023/
LOCATION:IFEMA – Institucion Ferial de Madrid\, Av. Del Partenón 5\, Madrid\, Madrid\, 28042\, España
ATTACH;FMTTYPE=image/jpeg:https://www.envirosoil.es/wp-content/uploads/2023/09/EVENTOS_2310_Logistic-and-Industrial-Build-Madrid.jpg
END:VEVENT
BEGIN:VEVENT
DTSTART;VALUE=DATE:20231122
DTEND;VALUE=DATE:20231126
DTSTAMP:20260421T191939
CREATED:20230928T171058Z
LAST-MODIFIED:20231002T155929Z
UID:8090-1700611200-1700956799@www.envirosoil.es
SUMMARY:SMOPYC - Salón Internacional de maquinaria\, de obras publicas\, construcción y minería
DESCRIPTION:SMOPYC\, la feria Internacional de Maquinaria\, Construcción y Obras Públicas es una de las principales ferias del sector. SMOPYC es la feria internacional centrada en obras públicas\, maquinaria y construcción que se lleva a cabo cada tres años en la Feria de Zaragoza. Durante esos días\, Zaragoza se convierte en un punto de encuentro para los negocios y la exposición de la última tecnología en construcción de obras públicas y equipamiento. \nSMOPYC es una herramienta de primera magnitud para fortalecer la competitividad de las empresas\, presentar todas las innovaciones que existen en el mercado\, servir de foro de debate para las cuestiones que preocupan a los profesionales\, aglutinar la actividad de las diversas asociaciones sectoriales y\, en definitiva\, ser motor de desarrollo para todas las firmas vinculadas a la maquinaria de obra pública\, construcción y minería.
URL:https://www.envirosoil.es/en/evento/smopyc/
LOCATION:Feria de Zaragoza\, Autovia A - 2 km 311\, Zaragoza\, Zaragoza\, 50012\, España
ATTACH;FMTTYPE=image/png:https://www.envirosoil.es/wp-content/uploads/2023/09/EVENTOS_2310_Smopyc-Zaragoza.png
END:VEVENT
BEGIN:VEVENT
DTSTART;VALUE=DATE:20231117
DTEND;VALUE=DATE:20231120
DTSTAMP:20260421T191939
CREATED:20230928T163212Z
LAST-MODIFIED:20230928T163212Z
UID:8079-1700179200-1700438399@www.envirosoil.es
SUMMARY:Finest Cantabria - Feria Internacional de las Energías Sostenibles
DESCRIPTION:La FERIA INTERNACIONAL DE LAS NUEVAS ENERGIAS DE SANTANDER (FINEST Cantabria) está orientada a mostrar al público las distintas tecnologías existentes en el ámbito de las energías renovables\, dando especial protagonismo a las investigaciones en desarrollo y a los proyectos de inversión\, además de promover la comercialización de aquellas que ya han llegado al mercado.
URL:https://www.envirosoil.es/en/evento/finest-cantabria-feria-internacional-de-las-energias-sostenibles/
LOCATION:Palacio de Exposiciones de Santander\, C/ Real Racing Club\, 3\, Santander\, Cantabria\, 39005\, España
ATTACH;FMTTYPE=image/png:https://www.envirosoil.es/wp-content/uploads/2023/09/EVENTOS_2310_Finest-Cantabria.png
END:VEVENT
BEGIN:VEVENT
DTSTART;VALUE=DATE:20231114
DTEND;VALUE=DATE:20231117
DTSTAMP:20260421T191939
CREATED:20230928T161324Z
LAST-MODIFIED:20230928T162148Z
UID:8069-1699920000-1700179199@www.envirosoil.es
SUMMARY:Ecofira 2023 - Feria Internacional de las Soluciones Medioambientales
DESCRIPTION:ECOFIRA es el certamen internacional de las soluciones medioambientales\, un punto de encuentro en el que empresas y organismos públicos presentan los últimos avances en gestión medioambiental eficiente. Con 19 ediciones celebradas\, el certamen se ha consolidado como referencia para los profesionales y las empresas del sector\, no sólo por su oferta comercial\, sino también por su carácter de foro de debate y conocimiento. Una feria que reúne todos los ámbitos de interés en la gestión medioambiental\, desde la recogida\, transporte y tratamiento de residuos a la valorización y reciclaje de residuos o sistemas de eliminación de residuos. \n  \n 
URL:https://www.envirosoil.es/en/evento/ecofira-2023-feria-internacional-de-las-soluciones-medioambientales/
LOCATION:Feria Valencia\, Av. de Les Fires s/n\, Valencia\, Valencia\, 46035\, España
ATTACH;FMTTYPE=image/jpeg:https://www.envirosoil.es/wp-content/uploads/2023/09/EVENTOS_2310_Ecofira-Valencia-1.jpg
END:VEVENT
BEGIN:VEVENT
DTSTART;VALUE=DATE:20231014
DTEND;VALUE=DATE:20231016
DTSTAMP:20260421T191939
CREATED:20230914T125319Z
LAST-MODIFIED:20230914T125319Z
UID:8062-1697241600-1697414399@www.envirosoil.es
SUMMARY:Feria del Medioambiente de Tárrega 2023
DESCRIPTION:Tàrrega organiza la Feria del Medio Ambiente\, donde se pueden descubrir varios aspectos que se relacionan con la conservación de la naturaleza\, desde productos alimentarios ecológicos hasta vehículos eléctricos. También se programan actividades de sensibilización y lúdicas para las familias. La ciudad de Tárrega dedica un fin de semana a la ecología y a la conservación de la Tierra\, con los actos y muestras que se desarrollan en el marco de la Feria del Medio Ambiente. Se reúnen varios expositores\, relacionados con este sector\, como son las energías renovables\, la gestión de los residuos\, entidades de protección de la biodiversidad y la naturaleza o incluso vehículos eléctricos. También se pueden encontrar productos alimentarios ecológicos. \n  \n 
URL:https://www.envirosoil.es/en/evento/feria-del-medioambiente-de-tarrega-2023/
LOCATION:Pavelló del Club Natació Tàrrega – Parc Esportiu\, Plaza de les Nacions sense Estat s/n\, Tàrrega\, Lleida\, 25300\, España
ATTACH;FMTTYPE=image/jpeg:https://www.envirosoil.es/wp-content/uploads/2023/09/EVENTOS_2310_Feria-del-Medioambiente-de-Tarrega.jpg
END:VEVENT
BEGIN:VEVENT
DTSTART;VALUE=DATE:20231010
DTEND;VALUE=DATE:20231012
DTSTAMP:20260421T191939
CREATED:20230928T172414Z
LAST-MODIFIED:20230928T172745Z
UID:8093-1696896000-1697068799@www.envirosoil.es
SUMMARY:Soiluzioak - Congreso de Proteccion del Suelo de Euskadi
DESCRIPTION:SOILUZIOAK 2023 es el congreso sobre protección del suelo más importante del arco atlántico. Reunirá alrededor de 250 especialistas de las más diversas disciplinas para debatir sobre la gestión de este recurso natural desde perspectivas como la salud humana\, la biodiversidad\, el cambio climático\, la seguridad alimentaria o la calidad del agua. \nEl objetivo de SOILUZIOAK 2023 es promover la protección integral del suelo\, reflexionando sobre los retos actuales\, aportando nuevos criterios\, mostrando buenas prácticas y aportando conocimiento a los grupos de interés. Este encuentro está dirigido a administraciones y entidades públicas\, profesionales y agentes de conocimiento e innovación del ámbito del medio ambiente y a la ciudadanía.
URL:https://www.envirosoil.es/en/evento/soiluzioak-congreso-de-proteccion-del-suelo-de-euskadi/
LOCATION:Palacio Euskalduna\, Abandoibarra Etorb.\, 4\, Bilbo\, Bizcaia\, 48011\, España
ATTACH;FMTTYPE=image/png:https://www.envirosoil.es/wp-content/uploads/2023/09/EVENTOS_2310_Soiluzioak-Bilbao.png
END:VEVENT
BEGIN:VEVENT
DTSTART;VALUE=DATE:20231002
DTEND;VALUE=DATE:20231004
DTSTAMP:20260421T191939
CREATED:20230928T173517Z
LAST-MODIFIED:20230928T173612Z
UID:8106-1696204800-1696377599@www.envirosoil.es
SUMMARY:Congreso Nacional de Industria y Pyme
DESCRIPTION:El Ministerio de Industria\, Comercio y Turismo organiza en Málaga la sexta edición del Congreso Nacional de Industria y Pyme Tendrá lugar los días 2 y 3 de octubre en el Palacio de Ferias y Congresos de Málaga – FYCMA. \nEste evento se redimensiona y se transforma en el espacio integrador de la industria y de la pyme\, reuniendo a sus líderes al máximo nivel\, instituciones\, empresas\, asociaciones\, clústeres\, y a todos los profesionales y expertos de la cadena de valor comprometidos con el desarrollo económico e industrial. \nEn una época con grandes desafíos\, donde la industria juega un rol fundamental en nuestro país\, es más importante que nunca reunir a sus líderes al máximo nivel\, instituciones\, empresas\, asociaciones\, clusters y a todos los profesionales y expertos para debatir y analizar el presente y el futuro de la industria.
URL:https://www.envirosoil.es/en/evento/congreso-nacional-de-industria-y-pyme/
LOCATION:FCYMA – Palacio de Ferias y Congresos de Málaga\, Av. de José Ortega y Gasset\, 201\, Malaga\, Malaga\, 29006\, España
ATTACH;FMTTYPE=image/jpeg:https://www.envirosoil.es/wp-content/uploads/2023/09/EVENTOS_2309_Congreso-Nacional-de-Industria-y-Pyme.jpg
END:VEVENT
BEGIN:VEVENT
DTSTART;VALUE=DATE:20230927
DTEND;VALUE=DATE:20230929
DTSTAMP:20260421T191939
CREATED:20230822T121709Z
LAST-MODIFIED:20230901T125132Z
UID:7426-1695772800-1695945599@www.envirosoil.es
SUMMARY:Expoconstruye 2023
DESCRIPTION:Expoconstruye congrega durante dos intensos días de trabajo a los principales agentes del sector\, y a las marcas líderes que mostrarán una vez más su contribución al fortalecimiento del sector. \n  \nLink del Evento: www.expoconstruye.es \n  \n 
URL:https://www.envirosoil.es/en/evento/expoconstruye-2023/
LOCATION:IFECA – Institución Ferial de Cádiz\, Paseo de Sementales s/n\, Jerez de la Frontera\, Cádiz\, 11405\, España
ATTACH;FMTTYPE=image/png:https://www.envirosoil.es/wp-content/uploads/2023/08/Expoconstruye-2023.png
END:VEVENT
BEGIN:VEVENT
DTSTART;VALUE=DATE:20230927
DTEND;VALUE=DATE:20230928
DTSTAMP:20260421T191939
CREATED:20230822T121838Z
LAST-MODIFIED:20230901T102833Z
UID:7431-1695772800-1695859199@www.envirosoil.es
SUMMARY:Foro sobre Deconstrucción - AEDED
DESCRIPTION:El encuentro anual celebrado en el CEDEX\, que reúne a los profesionales de los sectores de demolición\, descontaminación\, corte y perforación y reciclaje. \nLink del evento: www.aeded.org
URL:https://www.envirosoil.es/en/evento/foro-deconstruccion-aeded/
LOCATION:CEDEX – Centro de Estudios y Experimentación de Obras Públicas\, C. de Alfonso XII\, 3\, Madrid\, Madrid\, 28014\, España
ATTACH;FMTTYPE=image/jpeg:https://www.envirosoil.es/wp-content/uploads/2023/08/Foro-Deconstruccion-AEDED.jpg
END:VEVENT
BEGIN:VEVENT
DTSTART;VALUE=DATE:20230920
DTEND;VALUE=DATE:20230922
DTSTAMP:20260421T191939
CREATED:20230822T121502Z
LAST-MODIFIED:20230901T125028Z
UID:7318-1695168000-1695340799@www.envirosoil.es
SUMMARY:Greencities 2023
DESCRIPTION:Evento que reúne a ciudades\, profesionales\, empresas y entidades implicadas en el desarrollo de territorios sostenibles\, eficientes y conectados\, ofreciendo una perspectiva global de los desafíos y oportunidades de la gestión urbana y la movilidad. \n  \nLink del Evento: www.greencities.fycma.com \n  \n 
URL:https://www.envirosoil.es/en/evento/greencities-2023/
LOCATION:FYCMA – Palacio de Ferias y Congresos de Málaga\, Av. Ortega y Gasset\, 201\, Málaga\, Málaga\, 29006\, España
ATTACH;FMTTYPE=image/jpeg:https://www.envirosoil.es/wp-content/uploads/2023/08/greencities-2023.jpg
END:VEVENT
BEGIN:VEVENT
DTSTART;VALUE=DATE:20230911
DTEND;VALUE=DATE:20230916
DTSTAMP:20260421T191939
CREATED:20230913T154659Z
LAST-MODIFIED:20230913T154901Z
UID:8013-1694390400-1694822399@www.envirosoil.es
SUMMARY:AquaConSoil 2023
DESCRIPTION:Del 11 al 15 de Septiembre se celebra en Praga (Republica Checa)\, la última edición del AquaConsoil\, el principal congreso europeo en gestión de suelos\, aguas subterráneas y sedimentos contaminados. \nUn foro donde convergen universidades\, administraciones y empresas dedicadas al medio ambiente\, tratando temas de la mayor actualidad\, enfocados en aportar nuevas soluciones a la problemática de los suelos contaminados.
URL:https://www.envirosoil.es/en/evento/aquaconsoil-2023/
LOCATION:CZU – Czech University of Life Sciences\, Kamýcká 129\, Praha-Suchdol\, Praga\, 165 00\, República Checa
ATTACH;FMTTYPE=image/jpeg:https://www.envirosoil.es/wp-content/uploads/2023/09/EVENTOS_2309_AquaconSoil-e1694620441727.jpg
END:VEVENT
END:VCALENDAR