BEGIN:VCALENDAR
VERSION:2.0
PRODID:-//Envirosoil ingeniería y obras ambientales - ECPv6.15.20//NONSGML v1.0//EN
CALSCALE:GREGORIAN
METHOD:PUBLISH
X-WR-CALNAME:Envirosoil ingeniería y obras ambientales
X-ORIGINAL-URL:https://www.envirosoil.es
X-WR-CALDESC:Eventos para Envirosoil ingeniería y obras ambientales
REFRESH-INTERVAL;VALUE=DURATION:PT1H
X-Robots-Tag:noindex
X-PUBLISHED-TTL:PT1H
BEGIN:VTIMEZONE
TZID:UTC
BEGIN:STANDARD
TZOFFSETFROM:+0000
TZOFFSETTO:+0000
TZNAME:UTC
DTSTART:20240101T000000
END:STANDARD
END:VTIMEZONE
BEGIN:VEVENT
DTSTART;VALUE=DATE:20250604
DTEND;VALUE=DATE:20250606
DTSTAMP:20260422T101016
CREATED:20250611T043836Z
LAST-MODIFIED:20250611T043836Z
UID:9679-1748995200-1749167999@www.envirosoil.es
SUMMARY:NET ZERO TECH - Foro de la Descarbonización
DESCRIPTION:En Net Zero Tech\, los visitantes podrán conocer durante los dos días de celebración del evento las soluciones innovadoras y eficientes para llevar a cabo un proyecto de transición hacia la neutralidad climática. \nTemáticas que abordará Net Zero Tech \n\n\n\n\nCaptura\, transporte\, almacenamiento y reutilización del CO2.\nSistemas de comercio de emisiones.\nHidrógeno\, biogás y otros combustibles renovables.\nEconomía Circular.\nElectrificación.\nAlmacenamiento de energía.\nDescentralización del consumo energético.\nSoluciones de digitalización para la optimización de procesos industriales.
URL:https://www.envirosoil.es/evento/net-zero-tech-foro-de-la-descarbonizacion/
LOCATION:Recinto Ferial La Farga\, Carrer de Barcelona\, 26\, Barcelona\, Barcelona\, 08901\, España
ATTACH;FMTTYPE=image/jpeg:https://www.envirosoil.es/wp-content/uploads/2025/06/NET-ERO-TECH.jpg
END:VEVENT
BEGIN:VEVENT
DTSTART;VALUE=DATE:20250605
DTEND;VALUE=DATE:20250607
DTSTAMP:20260422T101016
CREATED:20250611T045500Z
LAST-MODIFIED:20250611T045500Z
UID:9689-1749081600-1749254399@www.envirosoil.es
SUMMARY:II Congreso Internacional - El valor del Agua
DESCRIPTION:Este Congreso tiene como objetivo analizar\, desde una perspectiva interdisciplinar de las Ciencias Sociales y las Humanidades\, la gestión y usos del agua en el ámbito internacional. Pretende crear un ámbito de reflexión y aportar información que permita conocer los diversos usos que ha experimentado el agua\, así como su gestión y regulación a lo largo del tiempo. Por otra parte\, desde el campo de las Humanidades\, se pretende realizar un acercamiento a las narrativas del agua\, los imaginarios ambientales\, y al papel de los ODS en la Didáctica de la Lengua y las Ciencias Sociales.
URL:https://www.envirosoil.es/evento/ii-congreso-internacional-el-valor-del-agua/
LOCATION:Universidad de Jaén\, Campus Las Lagunillas s/n\, Jaén\, Jaén\, 23071\, Spain
ATTACH;FMTTYPE=image/jpeg:https://www.envirosoil.es/wp-content/uploads/2025/06/EL-VALOR-DEL-AGUA.jpg
END:VEVENT
BEGIN:VEVENT
DTSTART;VALUE=DATE:20250606
DTEND;VALUE=DATE:20250609
DTSTAMP:20260422T101016
CREATED:20250611T045857Z
LAST-MODIFIED:20250611T045857Z
UID:9692-1749168000-1749427199@www.envirosoil.es
SUMMARY:BIOTERRA - La Feria ECO de Euskadi
DESCRIPTION:BIOTERRA es la feria ECO de Euskadi. Un lugar de encuentro y una herramienta que facilita la colaboración entre personas\, empresas y entidades\, interesadas y preocupadas  por la eficiencia energética\, el consumo responsable y los alimentos\, cosmética y textil ecológicos. \n\n\n\n\nBIOTERRA busca generar consciencia sobre la importancia del cuidado y la salud del planeta y sus habitantes.
URL:https://www.envirosoil.es/evento/bioterra-la-feria-eco-de-euskadi/
LOCATION:FICOBA – Recinto Ferial de Gipuzkoa\, Av. Iparralde 43\, Irun\, Gipuzkoa\, 20302\, España
ATTACH;FMTTYPE=image/jpeg:https://www.envirosoil.es/wp-content/uploads/2025/06/bioterrac.jpg
END:VEVENT
BEGIN:VEVENT
DTSTART;VALUE=DATE:20250609
DTEND;VALUE=DATE:20250613
DTSTAMP:20260422T101016
CREATED:20250611T050329Z
LAST-MODIFIED:20250611T050329Z
UID:9694-1749427200-1749772799@www.envirosoil.es
SUMMARY:EUBCE - 33º Conferencia Europea sobre BIOMASA
DESCRIPTION:La EUBCE se caracteriza actualmente por ser un evento que aborda el equilibrio entre la sostenibilidad ambiental y el rendimiento económico de toda la cadena de utilización de la biomasa\, sin olvidar la ciencia. Esta conferencia abarca todos los aspectos de la biomasa\, desde los recursos\, la investigación\, la innovación y el despliegue hasta las políticas. La exposición pone especial énfasis en una estrecha colaboración entre el mundo académico\, las instituciones de investigación y la industria.
URL:https://www.envirosoil.es/evento/eubce-33o-conferencia-europea-sobre-biomasa/
LOCATION:Palacio de Congresos de Valencia\, Av. de les Corts Valencianes\, 60\, Pobles de l'Oest\, Valencia\, 46015\, Spain
ATTACH;FMTTYPE=image/png:https://www.envirosoil.es/wp-content/uploads/2025/06/EUBCE-2025.png
END:VEVENT
BEGIN:VEVENT
DTSTART;VALUE=DATE:20250617
DTEND;VALUE=DATE:20250618
DTSTAMP:20260422T101016
CREATED:20250611T044404Z
LAST-MODIFIED:20250611T044404Z
UID:9681-1750118400-1750204799@www.envirosoil.es
SUMMARY:WATER POSITIVE: Innovación y sostenibilidad hídrica desde Alicante
DESCRIPTION:El próximo 17 de junio de 2025\, el Parque Científico de Alicante se convertirá en el epicentro del debate sobre el futuro del agua con la celebración del evento Water Positive: Innovación y sostenibilidad hídrica desde Alicante. Esta jornada reunirá a profesionales\, entidades públicas\, empresas tecnológicas y líderes de opinión en torno a un objetivo común: impulsar soluciones innovadoras para una gestión hídrica sostenible y responsable.
URL:https://www.envirosoil.es/evento/water-positive-innovacion-y-sostenibilidad-hidrica-desde-alicante/
LOCATION:Parque Científico de Alicante\, Universidad de Alicante\, San Vicente del Raspeig\, Alicante\, 03690\, Spain
ATTACH;FMTTYPE=image/jpeg:https://www.envirosoil.es/wp-content/uploads/2025/06/water-positive-1.jpg
END:VEVENT
BEGIN:VEVENT
DTSTART;VALUE=DATE:20250618
DTEND;VALUE=DATE:20250620
DTSTAMP:20260422T101016
CREATED:20250611T050907Z
LAST-MODIFIED:20250611T050930Z
UID:9699-1750204800-1750377599@www.envirosoil.es
SUMMARY:Connecting Green Hydrogen Europe
DESCRIPTION:Connecting Hydrogen Europe 2025 (CHE2025) es el evento sobre hidrógeno líder y más influyente de Europa\, que reúne a toda la cadena de valor del hidrógeno para acelerar la industria del hidrógeno e impulsar la nueva economía energética de Europa. El evento se celebrará en Madrid del 18 al 19 de junio de 2025 \, la mayor edición de la historia del evento. Sirve como plataforma de primer nivel que reúne a más de 6.000 asistentes \, líderes influyentes y visionarios de Europa y de todo el mundo\, ofreciendo una oportunidad única para la colaboración y la innovación\, con más de 200 ponentes y más de 100 expositores .
URL:https://www.envirosoil.es/evento/connecting-green-hydrogen-europe/
LOCATION:IFEMA – Institucion Ferial de Madrid\, Av. Del Partenón 5\, Madrid\, Madrid\, 28042\, España
ATTACH;FMTTYPE=image/webp:https://www.envirosoil.es/wp-content/uploads/2025/06/GREEN-HIDROGENE.webp
END:VEVENT
BEGIN:VEVENT
DTSTART;VALUE=DATE:20250624
DTEND;VALUE=DATE:20250627
DTSTAMP:20260422T101016
CREATED:20250611T051429Z
LAST-MODIFIED:20250611T051429Z
UID:9702-1750723200-1750982399@www.envirosoil.es
SUMMARY:XIV Congreso Internacional AEDyR
DESCRIPTION:El XIV Congreso Internacional organizado por la Asociación Española de Desalación y Reutilización (AEDyR) tendrá lugar del 24 al 26 de junio de 2025 en el Auditorio Adán Martín\, en Tenerife. Es un evento bienal que reúne a profesionales\, instituciones y empresas del sector de la desalación y la reutilización del agua\, tanto a nivel nacional como internacional. 
URL:https://www.envirosoil.es/evento/xiv-congreso-internacional-aedyr/
LOCATION:Auditorio Adán Martín\, Avda. de la Constitución 1\, Tenerife\, Tenerife\, 38003
ATTACH;FMTTYPE=image/png:https://www.envirosoil.es/wp-content/uploads/2025/06/AEDYR_TF.png
END:VEVENT
BEGIN:VEVENT
DTSTART;VALUE=DATE:20250625
DTEND;VALUE=DATE:20250627
DTSTAMP:20260422T101016
CREATED:20250611T052022Z
LAST-MODIFIED:20250611T052022Z
UID:9705-1750809600-1750982399@www.envirosoil.es
SUMMARY:SOLAR+STORAGE España
DESCRIPTION:SOLAR+STORAGE España reúne a los principales actores de la cadena de valor energética\, así como a innovadores y disruptores\, para mostrar las soluciones tecnológicas y servicios que facilitan el cambio hacia un sistema energético más sostenible. Este es el evento de referencia para todo aquel en busca de diseñar\, instalar u operar energía solar fotovoltaica\, soluciones de almacenamiento y otras tecnologías complementarias a gran escala.
URL:https://www.envirosoil.es/evento/solarstorage-espana/
LOCATION:Feria Valencia\, Av. de Les Fires s/n\, Valencia\, Valencia\, 46035\, España
ATTACH;FMTTYPE=image/png:https://www.envirosoil.es/wp-content/uploads/2025/06/Solar-Storage.png
END:VEVENT
BEGIN:VEVENT
DTSTART;VALUE=DATE:20250908
DTEND;VALUE=DATE:20250913
DTSTAMP:20260422T101016
CREATED:20250611T052724Z
LAST-MODIFIED:20250611T052724Z
UID:9707-1757289600-1757721599@www.envirosoil.es
SUMMARY:VII EUROSOIL & X Congreso Ibérico de la Ciencia del Suelo
DESCRIPTION:EUROSOIL 2025 es el encuentro oficial de la Confederación Europea de Sociedades de Ciencias del Suelo (ECSSS) y uno de los eventos mas importantes de las Ciencias del Suelo en Europa. Se celebra cada cuatro años y reúne a más de 2500 participantes que comparten sus investigaciones en sesiones paralelas\, incluyendo presentaciones orales\, pósteres\, talleres y una exposición de soluciones de laboratorio. Es una oportunidad para el intercambio de conocimiento y el debate dentro de la comunidad científica\, además de un espacio para conocer clientes potenciales y establecer contactos
URL:https://www.envirosoil.es/evento/vii-eurosoil-x-congreso-iberico-de-la-ciencia-del-suelo/
LOCATION:Palacio de Congresos FIBES\, Av. Alcalde Luis Uruñuela 1\, Sevilla\, Sevilla\, 41020\, Spain
ATTACH;FMTTYPE=image/jpeg:https://www.envirosoil.es/wp-content/uploads/2025/06/Eurosoil_2025.jpg
END:VEVENT
BEGIN:VEVENT
DTSTART;VALUE=DATE:20251001
DTEND;VALUE=DATE:20251003
DTSTAMP:20260422T101016
CREATED:20250611T053103Z
LAST-MODIFIED:20250611T053103Z
UID:9710-1759276800-1759449599@www.envirosoil.es
SUMMARY:5º SALÓN DEL GAS RENOVABLE
DESCRIPTION:El 5º Salón del Gas Renovable es un evento profesional que se celebrará los días 1 y 2 de octubre de 2025 en la Feria de Valladolid. Este evento tiene como objetivo reunir a empresas\, centros tecnológicos\, profesionales\, instituciones y ciudadanos interesados en el mundo del biogás\, biometano y otros gases renovables. Será una plataforma para mostrar las últimas novedades y compartir conocimientos sobre esta tecnología clave en la transición energética. 
URL:https://www.envirosoil.es/evento/5o-salon-del-gas-renovable/
LOCATION:Feria de Valladolid\, Av. Ramón Pradera\, 3\, Valladolid\, Valladolid\, 47009\, Spain
ATTACH;FMTTYPE=image/jpeg:https://www.envirosoil.es/wp-content/uploads/2025/06/5_Gas_Renovable.jpg
END:VEVENT
BEGIN:VEVENT
DTSTART;VALUE=DATE:20251015
DTEND;VALUE=DATE:20251017
DTSTAMP:20260422T101016
CREATED:20250613T064758Z
LAST-MODIFIED:20250613T064758Z
UID:9721-1760486400-1760659199@www.envirosoil.es
SUMMARY:EXPOCONSTRUYE - V FERIA DE LA CONSTRUCCIÓN
DESCRIPTION:Expoconstruye\, la feria profesional de la construcción por excelencia en Andalucía\, vuelve por quinto año consecutivo como referente en el sector. Un evento enfocado a arquitectos\, empresarios\, técnicos y profesionales de la construcción en general\, así como a público institucional. \n 
URL:https://www.envirosoil.es/evento/expoconstruye-v-feria-de-la-construccion/
LOCATION:IFECA – Institución Ferial de Cádiz\, Paseo de Sementales s/n\, Jerez de la Frontera\, Cádiz\, 11405\, España
ATTACH;FMTTYPE=image/png:https://www.envirosoil.es/wp-content/uploads/2025/06/EXPOCONSTRUYE-2025.png
END:VEVENT
BEGIN:VEVENT
DTSTART;VALUE=DATE:20251111
DTEND;VALUE=DATE:20251114
DTSTAMP:20260422T101016
CREATED:20250611T053340Z
LAST-MODIFIED:20250611T053340Z
UID:9712-1762819200-1763078399@www.envirosoil.es
SUMMARY:ECOFIRA: Feria de la Capitalidad Verde del Medioambiente
DESCRIPTION:Con más de veinte ediciones\, Ecofira se ha consolidado como el punto de encuentro imprescindible para empresas y entidades públicas que lideran la transición hacia una gestión ambiental más eficiente. Un foro de conocimiento donde se analiza los desafíos y soluciones en materia medioambiental y energética. La suma de Efiaqua\, EChS y Laboralia conformará un gran evento ferial en torno a los servicios públicos\, industriales y empresariales.
URL:https://www.envirosoil.es/evento/ecofira-feria-de-la-capitalidad-verde-del-medioambiente/
LOCATION:Feria Valencia\, Av. de Les Fires s/n\, Valencia\, Valencia\, 46035\, España
ATTACH;FMTTYPE=image/jpeg:https://www.envirosoil.es/wp-content/uploads/2025/06/ecofira.jpg
END:VEVENT
BEGIN:VEVENT
DTSTART;VALUE=DATE:20251118
DTEND;VALUE=DATE:20251121
DTSTAMP:20260422T101016
CREATED:20250611T053645Z
LAST-MODIFIED:20250611T053645Z
UID:9714-1763424000-1763683199@www.envirosoil.es
SUMMARY:GENERA: Feria Internacional de Energía y Medioambiente
DESCRIPTION:Del 18 al 20 de noviembre del 2025 se celebrará GENERA 2025\, un evento líder en España para profesionales del sector energético\, buscando innovaciones en energías renovables y eficiencia energética\, junto con tecnologías y soluciones medioambientales. 
URL:https://www.envirosoil.es/evento/genera-feria-internacional-de-energia-y-medioambiente/
LOCATION:IFEMA – Institucion Ferial de Madrid\, Av. Del Partenón 5\, Madrid\, Madrid\, 28042\, España
ATTACH;FMTTYPE=image/jpeg:https://www.envirosoil.es/wp-content/uploads/2025/06/genera.jpg
END:VEVENT
BEGIN:VEVENT
DTSTART;VALUE=DATE:20260209
DTEND;VALUE=DATE:20260212
DTSTAMP:20260422T101016
CREATED:20250611T032126Z
LAST-MODIFIED:20250611T032126Z
UID:9617-1770595200-1770854399@www.envirosoil.es
SUMMARY:WEX Global 2026
DESCRIPTION:WEX Global reúne a una comunidad establecida de expertos de alto nivel en agua y energía de más de 45 países diferentes comprometidos a ofrecer estrategias digitales y circulares integradas para mitigar los impactos del clima y aprovechar al máximo el valor de nuestra agua. \nEl formato combina una conferencia de amplio alcance con más de 90 oradores distinguidos\, con una agenda completa de reuniones cara a cara intensivas y otros eventos de networking que lo conectarán con otros líderes de la comunidad del agua.
URL:https://www.envirosoil.es/evento/wex-global-2026/
LOCATION:Cádiz
ATTACH;FMTTYPE=image/webp:https://www.envirosoil.es/wp-content/uploads/2025/06/WEX-Global-2026.webp
END:VEVENT
BEGIN:VEVENT
DTSTART;VALUE=DATE:20260311
DTEND;VALUE=DATE:20260313
DTSTAMP:20260422T101016
CREATED:20250611T034142Z
LAST-MODIFIED:20250611T034142Z
UID:9628-1773187200-1773359999@www.envirosoil.es
SUMMARY:PLASTICS & RUBBER
DESCRIPTION:Con un formato ágil\, accesible y eficiente en costos\, Plastics & Rubber se posiciona como un evento pensado para facilitar la participación de todos los profesionales del sector. Su tercera edición se celebrará los días 11 y 12 de marzo de 2026\, consolidando su lugar como una cita esencial en el calendario industrial. \nEl objetivo sigue siendo claro: crear un entorno de valor real para la industria\, fomentando el intercambio y la evolución del sector. El interés creciente tanto de expositores como de visitantes impulsa a la organización a continuar adaptándose\, ofreciendo un espacio dinámico y abierto que responda a las necesidades actuales del mercado.
URL:https://www.envirosoil.es/evento/plastics-rubber-2/
LOCATION:Recinto Ferial La Farga\, Carrer de Barcelona\, 26\, Barcelona\, Barcelona\, 08901\, España
ATTACH;FMTTYPE=image/png:https://www.envirosoil.es/wp-content/uploads/2025/06/PLASTICSANDRUBBER-2026.png
END:VEVENT
BEGIN:VEVENT
DTSTART;VALUE=DATE:20260415
DTEND;VALUE=DATE:20260419
DTSTAMP:20260422T101016
CREATED:20250611T041653Z
LAST-MODIFIED:20250611T041653Z
UID:9655-1776211200-1776556799@www.envirosoil.es
SUMMARY:SMOPYC
DESCRIPTION:SMOPYC es el punto de encuentro clave para el sector de la maquinaria de obra pública\, construcción y minería. Un espacio donde la tecnología\, la sostenibilidad y la colaboración impulsan un sector más eficiente y competitivo. Además de presentar las últimas innovaciones y tendencias\, SMOPYC fortalece la competitividad de las empresas y reúne a las principales asociaciones sectoriales para debatir los retos y oportunidades que definirán el futuro de la industria.
URL:https://www.envirosoil.es/evento/smopyc-2/
LOCATION:Feria de Zaragoza\, Autovia A - 2 km 311\, Zaragoza\, Zaragoza\, 50012\, España
ATTACH;FMTTYPE=image/png:https://www.envirosoil.es/wp-content/uploads/2025/06/smopyc-2026.png
END:VEVENT
BEGIN:VEVENT
DTSTART;VALUE=DATE:20260609
DTEND;VALUE=DATE:20260612
DTSTAMP:20260422T101016
CREATED:20250611T050608Z
LAST-MODIFIED:20250611T050608Z
UID:9697-1780963200-1781222399@www.envirosoil.es
SUMMARY:TECMA - Feria Internacional de Urbanismo y Medioambiente
DESCRIPTION:La Feria Internacional del Urbanismo y del Medio Ambiente TECMA\, acogerá un programa que dé respuestas tangibles a los temas principales que más preocupan a los gestores de las ciudades\, procurando que esta convocatoria no solo sea un espacio expositivo para las principales empresas del sector\, sino también un lugar donde intercambiar buenas prácticas\, conocimientos y experiencias reales en el día a día de los responsables de nuestras ciudades.
URL:https://www.envirosoil.es/evento/tecma-feria-internacional-de-urbanismo-y-medioambiente/
LOCATION:IFEMA – Institucion Ferial de Madrid\, Av. Del Partenón 5\, Madrid\, Madrid\, 28042\, España
ATTACH;FMTTYPE=image/jpeg:https://www.envirosoil.es/wp-content/uploads/2025/06/tecma.jpg
END:VEVENT
BEGIN:VEVENT
DTSTART;VALUE=DATE:20260624
DTEND;VALUE=DATE:20260627
DTSTAMP:20260422T101016
CREATED:20250611T035748Z
LAST-MODIFIED:20250611T035748Z
UID:9641-1782259200-1782518399@www.envirosoil.es
SUMMARY:REBUILD - Transformando la Edificación
DESCRIPTION:REBUILD 2026 regresa los días 24\, 25 y 26 de marzo en IFEMA Madrid\, consolidándose como el gran punto de encuentro para impulsar la transformación del sector de la construcción. En un momento clave de cambio\, la cita pone el foco en la industrialización\, la digitalización y la sostenibilidad como pilares para avanzar hacia un nuevo modelo constructivo. \nDurante tres jornadas\, más de 28.000 profesionales y 5.600 proyectos en búsqueda de soluciones se reunirán para descubrir las últimas innovaciones en materiales\, tecnología y sistemas constructivos. Además\, el Congreso Nacional de Arquitectura Avanzada y Construcción 4.0 ofrecerá una visión completa sobre el futuro del sector\, centrado en la eficiencia\, la diversidad y los criterios ESG. \nUna oportunidad única para conectar con los principales agentes de la cadena de valor y posicionarse a la vanguardia del cambio.
URL:https://www.envirosoil.es/evento/rebuild-transformando-la-edificacion/
LOCATION:IFEMA – Institucion Ferial de Madrid\, Av. Del Partenón 5\, Madrid\, Madrid\, 28042\, España
ATTACH;FMTTYPE=image/jpeg:https://www.envirosoil.es/wp-content/uploads/2025/06/rebuild-2026.jpg
END:VEVENT
BEGIN:VEVENT
DTSTART;VALUE=DATE:20261110
DTEND;VALUE=DATE:20261114
DTSTAMP:20260422T101016
CREATED:20250611T042952Z
LAST-MODIFIED:20250611T042952Z
UID:9665-1794268800-1794614399@www.envirosoil.es
SUMMARY:CONSTRUTEC - Semana Internacional de la Construcción
DESCRIPTION:CONSTRUTEC es el gran espacio de reunión destinado a expertos en sistemas\, soluciones y construcción\, creado para y por aquellos involucrados en el sector. En un encuentro donde se establecen conexiones directas y personales entre proveedores y clientes con el fin de materializar nuevas iniciativas y proyectos.
URL:https://www.envirosoil.es/evento/construtec-semana-internacional-de-la-construccion/
LOCATION:IFEMA – Institucion Ferial de Madrid\, Av. Del Partenón 5\, Madrid\, Madrid\, 28042\, España
ATTACH;FMTTYPE=image/webp:https://www.envirosoil.es/wp-content/uploads/2025/06/construtec-2026.webp
END:VEVENT
END:VCALENDAR